BEGIN:VCALENDAR
VERSION:2.0
PRODID:-//Cinder - ECPv6.15.17//NONSGML v1.0//EN
CALSCALE:GREGORIAN
METHOD:PUBLISH
X-ORIGINAL-URL:https://cinderwines.com
X-WR-CALDESC:Events for Cinder
REFRESH-INTERVAL;VALUE=DURATION:PT1H
X-Robots-Tag:noindex
X-PUBLISHED-TTL:PT1H
BEGIN:VTIMEZONE
TZID:America/Boise
BEGIN:DAYLIGHT
TZOFFSETFROM:-0700
TZOFFSETTO:-0600
TZNAME:MDT
DTSTART:20240310T090000
END:DAYLIGHT
BEGIN:STANDARD
TZOFFSETFROM:-0600
TZOFFSETTO:-0700
TZNAME:MST
DTSTART:20241103T080000
END:STANDARD
BEGIN:DAYLIGHT
TZOFFSETFROM:-0700
TZOFFSETTO:-0600
TZNAME:MDT
DTSTART:20250309T090000
END:DAYLIGHT
BEGIN:STANDARD
TZOFFSETFROM:-0600
TZOFFSETTO:-0700
TZNAME:MST
DTSTART:20251102T080000
END:STANDARD
BEGIN:DAYLIGHT
TZOFFSETFROM:-0700
TZOFFSETTO:-0600
TZNAME:MDT
DTSTART:20260308T090000
END:DAYLIGHT
BEGIN:STANDARD
TZOFFSETFROM:-0600
TZOFFSETTO:-0700
TZNAME:MST
DTSTART:20261101T080000
END:STANDARD
END:VTIMEZONE
BEGIN:VEVENT
DTSTART;VALUE=DATE:20250604
DTEND;VALUE=DATE:20250605
DTSTAMP:20260419T073242
CREATED:20241125T220905Z
LAST-MODIFIED:20250307T194040Z
UID:10006088-1748995200-1749081599@cinderwines.com
SUMMARY:Wine Club Wednesdays!
DESCRIPTION:We’re raising a glass to our incredible Wine Club members with a special midweek treat—introducing Wine Club Wednesdays! \nEvery Wednesday\, members can enjoy an exclusive all-day happy hour\, featuring buy one\, get one free glasses of wine. Whether you’re stopping by for a quick sip after work or settling in for a relaxing evening with friends\, this is our way of saying thank you for being part of the Cinder family. \nSo come in\, unwind\, and toast to the perks of membership—because Wednesdays just got a whole lot better!
URL:https://cinderwines.com/event/wine-club-wednesdays/2025-06-04/
LOCATION:Cinder Winery\, East 44th Street 107\, Garden City\, ID\, 83714\, United States
ATTACH;FMTTYPE=image/jpeg:https://cinderwines.com/wp-content/uploads/2024/11/JaydeSilbernagelPhotography_CinderSpringRelease2017_nocrop_DSC1135-1.jpg
GEO:43.6338887;-116.2534523
X-APPLE-STRUCTURED-LOCATION;VALUE=URI;X-ADDRESS=Cinder Winery East 44th Street 107 Garden City ID 83714 United States;X-APPLE-RADIUS=500;X-TITLE=East 44th Street 107:geo:-116.2534523,43.6338887
END:VEVENT
BEGIN:VEVENT
DTSTART;VALUE=DATE:20250606
DTEND;VALUE=DATE:20250607
DTSTAMP:20260419T073242
CREATED:20250606T210432Z
LAST-MODIFIED:20250606T210934Z
UID:10006381-1749168000-1749254399@cinderwines.com
SUMMARY:Double Point Flask Fills
DESCRIPTION:Flask Fill Fridays are here! \nEvery Friday\, we’re doubling the points on any flask fill you purchase — whether you’re topping off with your favorite red\, white\, rosé\, or one of our rotating specials. That means you’ll earn rewards twice as fast and be well on your way to your 10th fill free! \nIt’s our way of saying thanks for sipping with us and giving you a little extra reason to swing by before the weekend. So grab your flask\, choose your pour\, and let the good times (and points) flow! 🍷
URL:https://cinderwines.com/event/double-point-flask-fills/2025-06-06/
LOCATION:Cinder Winery\, East 44th Street 107\, Garden City\, ID\, 83714\, United States
ATTACH;FMTTYPE=image/jpeg:https://cinderwines.com/wp-content/uploads/2025/06/JaydeSilbernagelPhotography_CinderWineFlasksTap_DSC0344-scaled.jpg
GEO:43.6338887;-116.2534523
X-APPLE-STRUCTURED-LOCATION;VALUE=URI;X-ADDRESS=Cinder Winery East 44th Street 107 Garden City ID 83714 United States;X-APPLE-RADIUS=500;X-TITLE=East 44th Street 107:geo:-116.2534523,43.6338887
END:VEVENT
BEGIN:VEVENT
DTSTART;VALUE=DATE:20250611
DTEND;VALUE=DATE:20250612
DTSTAMP:20260419T073242
CREATED:20241125T220905Z
LAST-MODIFIED:20250307T194040Z
UID:10006089-1749600000-1749686399@cinderwines.com
SUMMARY:Wine Club Wednesdays!
DESCRIPTION:We’re raising a glass to our incredible Wine Club members with a special midweek treat—introducing Wine Club Wednesdays! \nEvery Wednesday\, members can enjoy an exclusive all-day happy hour\, featuring buy one\, get one free glasses of wine. Whether you’re stopping by for a quick sip after work or settling in for a relaxing evening with friends\, this is our way of saying thank you for being part of the Cinder family. \nSo come in\, unwind\, and toast to the perks of membership—because Wednesdays just got a whole lot better!
URL:https://cinderwines.com/event/wine-club-wednesdays/2025-06-11/
LOCATION:Cinder Winery\, East 44th Street 107\, Garden City\, ID\, 83714\, United States
ATTACH;FMTTYPE=image/jpeg:https://cinderwines.com/wp-content/uploads/2024/11/JaydeSilbernagelPhotography_CinderSpringRelease2017_nocrop_DSC1135-1.jpg
GEO:43.6338887;-116.2534523
X-APPLE-STRUCTURED-LOCATION;VALUE=URI;X-ADDRESS=Cinder Winery East 44th Street 107 Garden City ID 83714 United States;X-APPLE-RADIUS=500;X-TITLE=East 44th Street 107:geo:-116.2534523,43.6338887
END:VEVENT
BEGIN:VEVENT
DTSTART;VALUE=DATE:20250613
DTEND;VALUE=DATE:20250614
DTSTAMP:20260419T073242
CREATED:20250606T210432Z
LAST-MODIFIED:20250606T210934Z
UID:10006382-1749772800-1749859199@cinderwines.com
SUMMARY:Double Point Flask Fills
DESCRIPTION:Flask Fill Fridays are here! \nEvery Friday\, we’re doubling the points on any flask fill you purchase — whether you’re topping off with your favorite red\, white\, rosé\, or one of our rotating specials. That means you’ll earn rewards twice as fast and be well on your way to your 10th fill free! \nIt’s our way of saying thanks for sipping with us and giving you a little extra reason to swing by before the weekend. So grab your flask\, choose your pour\, and let the good times (and points) flow! 🍷
URL:https://cinderwines.com/event/double-point-flask-fills/2025-06-13/
LOCATION:Cinder Winery\, East 44th Street 107\, Garden City\, ID\, 83714\, United States
ATTACH;FMTTYPE=image/jpeg:https://cinderwines.com/wp-content/uploads/2025/06/JaydeSilbernagelPhotography_CinderWineFlasksTap_DSC0344-scaled.jpg
GEO:43.6338887;-116.2534523
X-APPLE-STRUCTURED-LOCATION;VALUE=URI;X-ADDRESS=Cinder Winery East 44th Street 107 Garden City ID 83714 United States;X-APPLE-RADIUS=500;X-TITLE=East 44th Street 107:geo:-116.2534523,43.6338887
END:VEVENT
BEGIN:VEVENT
DTSTART;VALUE=DATE:20250618
DTEND;VALUE=DATE:20250619
DTSTAMP:20260419T073242
CREATED:20241125T220905Z
LAST-MODIFIED:20250307T194040Z
UID:10006090-1750204800-1750291199@cinderwines.com
SUMMARY:Wine Club Wednesdays!
DESCRIPTION:We’re raising a glass to our incredible Wine Club members with a special midweek treat—introducing Wine Club Wednesdays! \nEvery Wednesday\, members can enjoy an exclusive all-day happy hour\, featuring buy one\, get one free glasses of wine. Whether you’re stopping by for a quick sip after work or settling in for a relaxing evening with friends\, this is our way of saying thank you for being part of the Cinder family. \nSo come in\, unwind\, and toast to the perks of membership—because Wednesdays just got a whole lot better!
URL:https://cinderwines.com/event/wine-club-wednesdays/2025-06-18/
LOCATION:Cinder Winery\, East 44th Street 107\, Garden City\, ID\, 83714\, United States
ATTACH;FMTTYPE=image/jpeg:https://cinderwines.com/wp-content/uploads/2024/11/JaydeSilbernagelPhotography_CinderSpringRelease2017_nocrop_DSC1135-1.jpg
GEO:43.6338887;-116.2534523
X-APPLE-STRUCTURED-LOCATION;VALUE=URI;X-ADDRESS=Cinder Winery East 44th Street 107 Garden City ID 83714 United States;X-APPLE-RADIUS=500;X-TITLE=East 44th Street 107:geo:-116.2534523,43.6338887
END:VEVENT
BEGIN:VEVENT
DTSTART;TZID=America/Boise:20250619T130000
DTEND;TZID=America/Boise:20250619T190000
DTSTAMP:20260419T073242
CREATED:20250618T213552Z
LAST-MODIFIED:20250710T215207Z
UID:10006644-1750338000-1750359600@cinderwines.com
SUMMARY:Thirsty Thursdays at Cinder
DESCRIPTION:Join us every Thursday for complimentary wine tastings at Cinder! Whether you’re new to our wines or a longtime fan\, this is the perfect chance to explore our current releases—on the house. No reservation is needed\, but you’re welcome to make one if you’d like. \nCome sip\, discover a new favorite\, and start your weekend early with us every Thursday!
URL:https://cinderwines.com/event/thirsty-thursdays-at-cinder/2025-06-19/
LOCATION:Cinder Winery\, East 44th Street 107\, Garden City\, ID\, 83714\, United States
ATTACH;FMTTYPE=image/jpeg:https://cinderwines.com/wp-content/uploads/2019/01/Cinder-5-copy.jpg
GEO:43.6338887;-116.2534523
X-APPLE-STRUCTURED-LOCATION;VALUE=URI;X-ADDRESS=Cinder Winery East 44th Street 107 Garden City ID 83714 United States;X-APPLE-RADIUS=500;X-TITLE=East 44th Street 107:geo:-116.2534523,43.6338887
END:VEVENT
BEGIN:VEVENT
DTSTART;VALUE=DATE:20250620
DTEND;VALUE=DATE:20250621
DTSTAMP:20260419T073242
CREATED:20250606T210432Z
LAST-MODIFIED:20250606T210934Z
UID:10006383-1750377600-1750463999@cinderwines.com
SUMMARY:Double Point Flask Fills
DESCRIPTION:Flask Fill Fridays are here! \nEvery Friday\, we’re doubling the points on any flask fill you purchase — whether you’re topping off with your favorite red\, white\, rosé\, or one of our rotating specials. That means you’ll earn rewards twice as fast and be well on your way to your 10th fill free! \nIt’s our way of saying thanks for sipping with us and giving you a little extra reason to swing by before the weekend. So grab your flask\, choose your pour\, and let the good times (and points) flow! 🍷
URL:https://cinderwines.com/event/double-point-flask-fills/2025-06-20/
LOCATION:Cinder Winery\, East 44th Street 107\, Garden City\, ID\, 83714\, United States
ATTACH;FMTTYPE=image/jpeg:https://cinderwines.com/wp-content/uploads/2025/06/JaydeSilbernagelPhotography_CinderWineFlasksTap_DSC0344-scaled.jpg
GEO:43.6338887;-116.2534523
X-APPLE-STRUCTURED-LOCATION;VALUE=URI;X-ADDRESS=Cinder Winery East 44th Street 107 Garden City ID 83714 United States;X-APPLE-RADIUS=500;X-TITLE=East 44th Street 107:geo:-116.2534523,43.6338887
END:VEVENT
BEGIN:VEVENT
DTSTART;VALUE=DATE:20250625
DTEND;VALUE=DATE:20250626
DTSTAMP:20260419T073242
CREATED:20241125T220905Z
LAST-MODIFIED:20250307T194040Z
UID:10006091-1750809600-1750895999@cinderwines.com
SUMMARY:Wine Club Wednesdays!
DESCRIPTION:We’re raising a glass to our incredible Wine Club members with a special midweek treat—introducing Wine Club Wednesdays! \nEvery Wednesday\, members can enjoy an exclusive all-day happy hour\, featuring buy one\, get one free glasses of wine. Whether you’re stopping by for a quick sip after work or settling in for a relaxing evening with friends\, this is our way of saying thank you for being part of the Cinder family. \nSo come in\, unwind\, and toast to the perks of membership—because Wednesdays just got a whole lot better!
URL:https://cinderwines.com/event/wine-club-wednesdays/2025-06-25/
LOCATION:Cinder Winery\, East 44th Street 107\, Garden City\, ID\, 83714\, United States
ATTACH;FMTTYPE=image/jpeg:https://cinderwines.com/wp-content/uploads/2024/11/JaydeSilbernagelPhotography_CinderSpringRelease2017_nocrop_DSC1135-1.jpg
GEO:43.6338887;-116.2534523
X-APPLE-STRUCTURED-LOCATION;VALUE=URI;X-ADDRESS=Cinder Winery East 44th Street 107 Garden City ID 83714 United States;X-APPLE-RADIUS=500;X-TITLE=East 44th Street 107:geo:-116.2534523,43.6338887
END:VEVENT
BEGIN:VEVENT
DTSTART;TZID=America/Boise:20250626T130000
DTEND;TZID=America/Boise:20250626T190000
DTSTAMP:20260419T073242
CREATED:20250618T213552Z
LAST-MODIFIED:20250710T215207Z
UID:10006645-1750942800-1750964400@cinderwines.com
SUMMARY:Thirsty Thursdays at Cinder
DESCRIPTION:Join us every Thursday for complimentary wine tastings at Cinder! Whether you’re new to our wines or a longtime fan\, this is the perfect chance to explore our current releases—on the house. No reservation is needed\, but you’re welcome to make one if you’d like. \nCome sip\, discover a new favorite\, and start your weekend early with us every Thursday!
URL:https://cinderwines.com/event/thirsty-thursdays-at-cinder/2025-06-26/
LOCATION:Cinder Winery\, East 44th Street 107\, Garden City\, ID\, 83714\, United States
ATTACH;FMTTYPE=image/jpeg:https://cinderwines.com/wp-content/uploads/2019/01/Cinder-5-copy.jpg
GEO:43.6338887;-116.2534523
X-APPLE-STRUCTURED-LOCATION;VALUE=URI;X-ADDRESS=Cinder Winery East 44th Street 107 Garden City ID 83714 United States;X-APPLE-RADIUS=500;X-TITLE=East 44th Street 107:geo:-116.2534523,43.6338887
END:VEVENT
BEGIN:VEVENT
DTSTART;VALUE=DATE:20250627
DTEND;VALUE=DATE:20250628
DTSTAMP:20260419T073242
CREATED:20250606T210432Z
LAST-MODIFIED:20250606T210934Z
UID:10006384-1750982400-1751068799@cinderwines.com
SUMMARY:Double Point Flask Fills
DESCRIPTION:Flask Fill Fridays are here! \nEvery Friday\, we’re doubling the points on any flask fill you purchase — whether you’re topping off with your favorite red\, white\, rosé\, or one of our rotating specials. That means you’ll earn rewards twice as fast and be well on your way to your 10th fill free! \nIt’s our way of saying thanks for sipping with us and giving you a little extra reason to swing by before the weekend. So grab your flask\, choose your pour\, and let the good times (and points) flow! 🍷
URL:https://cinderwines.com/event/double-point-flask-fills/2025-06-27/
LOCATION:Cinder Winery\, East 44th Street 107\, Garden City\, ID\, 83714\, United States
ATTACH;FMTTYPE=image/jpeg:https://cinderwines.com/wp-content/uploads/2025/06/JaydeSilbernagelPhotography_CinderWineFlasksTap_DSC0344-scaled.jpg
GEO:43.6338887;-116.2534523
X-APPLE-STRUCTURED-LOCATION;VALUE=URI;X-ADDRESS=Cinder Winery East 44th Street 107 Garden City ID 83714 United States;X-APPLE-RADIUS=500;X-TITLE=East 44th Street 107:geo:-116.2534523,43.6338887
END:VEVENT
END:VCALENDAR