BEGIN:VCALENDAR
VERSION:2.0
PRODID:-//Cinder - ECPv6.15.17//NONSGML v1.0//EN
CALSCALE:GREGORIAN
METHOD:PUBLISH
X-ORIGINAL-URL:https://cinderwines.com
X-WR-CALDESC:Events for Cinder
REFRESH-INTERVAL;VALUE=DURATION:PT1H
X-Robots-Tag:noindex
X-PUBLISHED-TTL:PT1H
BEGIN:VTIMEZONE
TZID:America/Boise
BEGIN:DAYLIGHT
TZOFFSETFROM:-0700
TZOFFSETTO:-0600
TZNAME:MDT
DTSTART:20240310T090000
END:DAYLIGHT
BEGIN:STANDARD
TZOFFSETFROM:-0600
TZOFFSETTO:-0700
TZNAME:MST
DTSTART:20241103T080000
END:STANDARD
BEGIN:DAYLIGHT
TZOFFSETFROM:-0700
TZOFFSETTO:-0600
TZNAME:MDT
DTSTART:20250309T090000
END:DAYLIGHT
BEGIN:STANDARD
TZOFFSETFROM:-0600
TZOFFSETTO:-0700
TZNAME:MST
DTSTART:20251102T080000
END:STANDARD
BEGIN:DAYLIGHT
TZOFFSETFROM:-0700
TZOFFSETTO:-0600
TZNAME:MDT
DTSTART:20260308T090000
END:DAYLIGHT
BEGIN:STANDARD
TZOFFSETFROM:-0600
TZOFFSETTO:-0700
TZNAME:MST
DTSTART:20261101T080000
END:STANDARD
END:VTIMEZONE
BEGIN:VEVENT
DTSTART;TZID=America/Boise:20251108T180000
DTEND;TZID=America/Boise:20251108T220000
DTSTAMP:20260421T061722
CREATED:20250925T174950Z
LAST-MODIFIED:20251106T034928Z
UID:10007123-1762624800-1762639200@cinderwines.com
SUMMARY:Harvest Hoedown
DESCRIPTION:Join us for Cinder’s Harvest Hoedown on November 8th!  \nThe evening kicks off with a lively line dance lesson by Dirt Road Dancing\, followed by a hearty meal from Big Meats BBQ (included with your ticket). Afterward\, hit the Cinder dance floor and keep the night going with live music from Jordan Shaw. \nPlease arrive at 5:30-5:45 if you want to participate in Line Dancing \n6-7pm: Line Dancing Lessons led by Dirt Road Dancing \n7-10pm: BBQ dinner served from Big Meats BBQ and Live Music by Jordan Shaw\, so get ready to try those new moves on the dance floor! \nBuy Tickets Here 
URL:https://cinderwines.com/event/harvest-hoedown/
LOCATION:Cinder Winery\, East 44th Street 107\, Garden City\, ID\, 83714\, United States
CATEGORIES:Concerts
ATTACH;FMTTYPE=image/jpeg:https://cinderwines.com/wp-content/uploads/2025/07/Cinder_Wine_Stomp_DJ_Event-603.jpg
GEO:43.6338887;-116.2534523
X-APPLE-STRUCTURED-LOCATION;VALUE=URI;X-ADDRESS=Cinder Winery East 44th Street 107 Garden City ID 83714 United States;X-APPLE-RADIUS=500;X-TITLE=East 44th Street 107:geo:-116.2534523,43.6338887
END:VEVENT
END:VCALENDAR