BEGIN:VCALENDAR
VERSION:2.0
PRODID:-//Cinder - ECPv6.15.17//NONSGML v1.0//EN
CALSCALE:GREGORIAN
METHOD:PUBLISH
X-WR-CALNAME:Cinder
X-ORIGINAL-URL:https://cinderwines.com
X-WR-CALDESC:Events for Cinder
REFRESH-INTERVAL;VALUE=DURATION:PT1H
X-Robots-Tag:noindex
X-PUBLISHED-TTL:PT1H
BEGIN:VTIMEZONE
TZID:America/Boise
BEGIN:DAYLIGHT
TZOFFSETFROM:-0700
TZOFFSETTO:-0600
TZNAME:MDT
DTSTART:20240310T090000
END:DAYLIGHT
BEGIN:STANDARD
TZOFFSETFROM:-0600
TZOFFSETTO:-0700
TZNAME:MST
DTSTART:20241103T080000
END:STANDARD
BEGIN:DAYLIGHT
TZOFFSETFROM:-0700
TZOFFSETTO:-0600
TZNAME:MDT
DTSTART:20250309T090000
END:DAYLIGHT
BEGIN:STANDARD
TZOFFSETFROM:-0600
TZOFFSETTO:-0700
TZNAME:MST
DTSTART:20251102T080000
END:STANDARD
BEGIN:DAYLIGHT
TZOFFSETFROM:-0700
TZOFFSETTO:-0600
TZNAME:MDT
DTSTART:20260308T090000
END:DAYLIGHT
BEGIN:STANDARD
TZOFFSETFROM:-0600
TZOFFSETTO:-0700
TZNAME:MST
DTSTART:20261101T080000
END:STANDARD
END:VTIMEZONE
BEGIN:VEVENT
DTSTART;TZID=America/Boise:20250122T130000
DTEND;TZID=America/Boise:20250124T190000
DTSTAMP:20260423T034217
CREATED:20241213T193625Z
LAST-MODIFIED:20241213T193939Z
UID:90041-1737550800-1737745200@cinderwines.com
SUMMARY:Wine Club Wine Sale
DESCRIPTION:Wine Club Members enjoy an exclusive offer from January 22nd to 24th: 50% off full cases of our Syrah and Tempranillo. This special discount is available both online and in-house\, giving you the flexibility to stock up on your favorites however you prefer.
URL:https://cinderwines.com/event/wine-club-wine-sale/
LOCATION:Cinder Winery\, East 44th Street 107\, Garden City\, ID\, 83714\, United States
ATTACH;FMTTYPE=image/jpeg:https://cinderwines.com/wp-content/uploads/2022/03/IMG_9943-2-scaled-1.jpg
GEO:43.6338887;-116.2534523
X-APPLE-STRUCTURED-LOCATION;VALUE=URI;X-ADDRESS=Cinder Winery East 44th Street 107 Garden City ID 83714 United States;X-APPLE-RADIUS=500;X-TITLE=East 44th Street 107:geo:-116.2534523,43.6338887
END:VEVENT
END:VCALENDAR