BEGIN:VCALENDAR
VERSION:2.0
PRODID:-//Cinder - ECPv6.15.17//NONSGML v1.0//EN
CALSCALE:GREGORIAN
METHOD:PUBLISH
X-WR-CALNAME:Cinder
X-ORIGINAL-URL:https://cinderwines.com
X-WR-CALDESC:Events for Cinder
REFRESH-INTERVAL;VALUE=DURATION:PT1H
X-Robots-Tag:noindex
X-PUBLISHED-TTL:PT1H
BEGIN:VTIMEZONE
TZID:America/Boise
BEGIN:DAYLIGHT
TZOFFSETFROM:-0700
TZOFFSETTO:-0600
TZNAME:MDT
DTSTART:20240310T090000
END:DAYLIGHT
BEGIN:STANDARD
TZOFFSETFROM:-0600
TZOFFSETTO:-0700
TZNAME:MST
DTSTART:20241103T080000
END:STANDARD
BEGIN:DAYLIGHT
TZOFFSETFROM:-0700
TZOFFSETTO:-0600
TZNAME:MDT
DTSTART:20250309T090000
END:DAYLIGHT
BEGIN:STANDARD
TZOFFSETFROM:-0600
TZOFFSETTO:-0700
TZNAME:MST
DTSTART:20251102T080000
END:STANDARD
BEGIN:DAYLIGHT
TZOFFSETFROM:-0700
TZOFFSETTO:-0600
TZNAME:MDT
DTSTART:20260308T090000
END:DAYLIGHT
BEGIN:STANDARD
TZOFFSETFROM:-0600
TZOFFSETTO:-0700
TZNAME:MST
DTSTART:20261101T080000
END:STANDARD
END:VTIMEZONE
BEGIN:VEVENT
DTSTART;TZID=America/Boise:20250903T130000
DTEND;TZID=America/Boise:20251026T190000
DTSTAMP:20260422T042807
CREATED:20250606T213913Z
LAST-MODIFIED:20250606T214106Z
UID:90409-1756904400-1761505200@cinderwines.com
SUMMARY:12 Club & Loyalty Fall Release
DESCRIPTION:12 Club & Loyalty Release: New Cinder Wines!\n \nThroughout the month\, we’re excited to host our 12 Club & Loyalty Release\, where we’ll introduce our newest wines to our valued members. This event spans the entire month\, offering you the opportunity to taste our latest releases and pick up your wine club allotment at your convenience. \nEvent Highlights: \n\nNew Wine Tastings: Be among the first to taste our latest wines\, carefully crafted for your enjoyment.\nPick Up Your Wine Club Allotment: Collect your wine club selections and take home some of our finest bottles.\nTicketed Pickup Parties: Join us at one of our two ticketed pickup parties\, where you’ll pick up your wine\, enjoy delicious catering\, and connect with fellow members.\n\nThis is the perfect way to explore our new releases and enjoy time with fellow club members. We can’t wait to celebrate with you! \nMake Reservations Here!
URL:https://cinderwines.com/event/12-club-loyalty-fall-release/
LOCATION:Cinder Winery\, East 44th Street 107\, Garden City\, ID\, 83714\, United States
CATEGORIES:Wine Tastings
ATTACH;FMTTYPE=image/jpeg:https://cinderwines.com/wp-content/uploads/2024/10/Cinder_Wine_Club_Event_LC-1494.jpg
GEO:43.6338887;-116.2534523
X-APPLE-STRUCTURED-LOCATION;VALUE=URI;X-ADDRESS=Cinder Winery East 44th Street 107 Garden City ID 83714 United States;X-APPLE-RADIUS=500;X-TITLE=East 44th Street 107:geo:-116.2534523,43.6338887
END:VEVENT
END:VCALENDAR